BEGIN:VCALENDAR
VERSION:2.0
PRODID:-//wp-events-plugin.com//7.2.2.1//EN
BEGIN:VEVENT
UID:104@vinoditalia.eu
DTSTART:20250524T100000Z
DTEND:20250524T100000Z
DTSTAMP:20250522T111107Z
URL:https://vinoditalia.eu/termine/timeforspring/
SUMMARY:Time for Spring in a Glass – Wein erleben\, Frühling genießen
DESCRIPTION:Time for Wine\n– die Weinreihe zum Genießen\nBei Time for Wi
 ne dreht sich alles um Genuss\, Atmosphäre und persönliche Begegnungen. 
 Renommierte Weingüter präsentieren ihre besten Tropfen – direkt vor Or
 t und im direkten Austausch mit den Winzerinnen und Winzern. Jede Veransta
 ltung steht unter einem besonderen Motto und bringt neue Aromen\, Regionen
  oder spannende Themen ins Glas.\nFreuen Sie sich auf entspannte Stunden i
 n unserer stilvollen Wine Lounge\, spannende Verkostungen und Aktionen run
 d um den Wein. Ob Frühlingsgefühle im Glas\, regionale Highlights oder i
 nternationale Genussreisen – Time for Wine macht jeden Termin zu einem b
 esonderen Erlebnis.\nEinsteigen. Einschenken. Entspannen.\nAuftakt: Time f
 or Spring in a Glass – am 24. Mai 2025 ab 12 UhrZum Start der Reihe begr
 üßen wir zwei ausgezeichnete rheinhessische Weingüter: das Weingut Kape
 llenhof und das Weingut Klostermühlenhof. Thomas Schätzel (Kapellenhof) 
 und Simone Ruzycki (Klostermühlenhof) werden persönlich vor Ort sein und
  ihre frischen Frühlingsweine präsentieren – direkt\, authentisch und 
 mit echter Leidenschaft.\nZur Verkostungsliste\n&#x1f4cd\; Veranstaltungso
 rt:Vino d’Italia WEINDEPOTEddersheimer Str. 265719 Hofheim-Marxheim
ATTACH;FMTTYPE=image/jpeg:https://vinoditalia.eu/wp-content/uploads/2025/0
 5/2025timeforwineinsta02.jpg
END:VEVENT
END:VCALENDAR