BEGIN:VCALENDAR
VERSION:2.0
PRODID:-//wp-events-plugin.com//7.2.2.1//EN
BEGIN:VEVENT
UID:108@vinoditalia.eu
DTSTART:20250927T100000Z
DTEND:20250927T100000Z
DTSTAMP:20250923T152945Z
URL:https://vinoditalia.eu/termine/tfwsudtirol/
SUMMARY:TIME FOR SÜDTIROL\, TRENTIN & GARDASEE – Eine genussvolle Reise 
 entlang der Etsch
DESCRIPTION:&#x1f377\; Time for Südtirol\, Trentin &amp\; Gardasee\nEine g
 enussvolle Reise entlang der Etsch – von den Alpen bis zum sonnenverwöh
 nten Gardasee\nSamstag\, 27. September 2025 | ab 12 Uhr | Vino d’Italia 
 WEINDEPOT\nAm 27. September erwartet Sie die nächste Ausgabe unserer Time
  for Wine-Reihe – und dieses Mal geht’s auf eine genussvolle Reise dur
 ch drei spannende Weinregionen: Südtirol\, Trentin und Gardasee. Freuen S
 ie sich auf elegante Weine\, prickelnde Spezialitäten und feine Genussmom
 ente!\nMit dabei sind:&#x1f347\; Kellerei Nals-Magreid (Südtirol) – ele
 gante Weiß- &amp\; Rotweine mit alpinem Charakter&#x1f347\; Madonna delle
  Vittorie (Trentin) – frische Weine direkt vom Gardasee&#x1f347\; Distil
 leria Marzadro (Trentin) – edle Grappas &amp\; Destillate&#x1f347\; Tenu
 ta Roveglia (Lombardei/Gardasee) – Heimat unseres Vino des Monats „Mit
 i Chiaretto“&#x1f942\; Villa Sandi Prosecco (Venetien) – spritziger Ge
 nuss &amp\; italienische Eleganz\nZusätzlich präsentiert Alex Pardeller 
 von „Mein Speck“ feine Südtiroler Wurstspezialitäten – perfekt zum
  Probieren und Kombinieren.\nDie Verkostung startet ab 12 Uhr und die Teil
 nahme ist wie immer kostenfrei. Kommen Sie vorbei\, entdecken Sie neue Wei
 ne und genießen Sie einen entspannten Tag in unserer Wine Lounge!\nzur Ve
 rkostungsliste\nTime for Wine – die Weinreihe zum Genießen\nBei Time fo
 r Wine dreht sich alles um Genuss\, Atmosphäre und persönliche Begegnung
 en. Renommierte Weingüter präsentieren ihre besten Tropfen – direkt vo
 r Ort und im direkten Austausch mit den Winzerinnen und Winzern. Jede Vera
 nstaltung steht unter einem besonderen Motto und bringt neue Aromen\, Regi
 onen oder spannende Themen ins Glas.\nFreuen Sie sich auf entspannte Stund
 en in unserer stilvollen Wine Lounge\, spannende Verkostungen und Aktionen
  rund um den Wein. Ob Frühlingsgefühle im Glas\, regionale Highlights od
 er internationale Genussreisen – Time for Wine macht jeden Termin zu ein
 em besonderen Erlebnis.\nEinsteigen. Einschenken. Entspannen.\n&#x1f4cd\; 
 Veranstaltungsort:Vino d’Italia WEINDEPOTEddersheimer Str. 265719 Hofhei
 m-Marxheim
ATTACH;FMTTYPE=image/jpeg:https://vinoditalia.eu/wp-content/uploads/2025/0
 5/2025timeforwineinsta02.jpg
END:VEVENT
END:VCALENDAR