BEGIN:VCALENDAR
VERSION:2.0
PRODID:-//wp-events-plugin.com//7.2.2.1//EN
BEGIN:VEVENT
UID:105@vinoditalia.eu
DTSTART:20250621T100000Z
DTEND:20250621T100000Z
DTSTAMP:20250620T100413Z
URL:https://vinoditalia.eu/termine/tfwrheingau/
SUMMARY:TIME FOR RHEINGAU – Der Klassiker im Glas
DESCRIPTION:Time for Wine\n– die Weinreihe zum Genießen\nBei Time for Wi
 ne dreht sich alles um Genuss\, Atmosphäre und persönliche Begegnungen. 
 Renommierte Weingüter präsentieren ihre besten Tropfen – direkt vor Or
 t und im direkten Austausch mit den Winzerinnen und Winzern. Jede Veransta
 ltung steht unter einem besonderen Motto und bringt neue Aromen\, Regionen
  oder spannende Themen ins Glas.\nFreuen Sie sich auf entspannte Stunden i
 n unserer stilvollen Wine Lounge\, spannende Verkostungen und Aktionen run
 d um den Wein. Ob Frühlingsgefühle im Glas\, regionale Highlights oder i
 nternationale Genussreisen – Time for Wine macht jeden Termin zu einem b
 esonderen Erlebnis.\nEinsteigen. Einschenken. Entspannen.\nTIME FOR RHEING
 AU – Der Klassiker im Glas 21. Juni 2025 ab 12 UhrErleben Sie die Elegan
 z des Rheingaus – bekannt für seine edlen Rieslinge und herrlichen Spä
 tburgunder. Das Weingut Joachim Flick aus Wicker und das Weingut Spreitzer
  aus Oestrich-Winkel sind mit dabei und laden Sie ein\, die Vielfalt und d
 en Charakter des Rheingau-Weins zu entdecken. Lernen Sie die Winzer persö
 nlich kennen und genießen Sie Weine\, die das Herz der Region widerspiege
 ln.\nZur Verkostungsliste\n&#x1f4cd\; Veranstaltungsort:Vino d’Italia WE
 INDEPOTEddersheimer Str. 265719 Hofheim-Marxheim
ATTACH;FMTTYPE=image/jpeg:https://vinoditalia.eu/wp-content/uploads/2025/0
 6/timeforrheingau2025.jpg
END:VEVENT
END:VCALENDAR