BEGIN:VCALENDAR
VERSION:2.0
PRODID:-//wp-events-plugin.com//7.2.2.1//EN
BEGIN:VEVENT
UID:107@vinoditalia.eu
DTSTART:20250816T100000Z
DTEND:20250816T100000Z
DTSTAMP:20250812T130508Z
URL:https://vinoditalia.eu/termine/tfw40/
SUMMARY:TIME FOR A CELEBRATION – 80 Jahre geballte Weinfreude!
DESCRIPTION:TIME FOR A CELEBRATION – 80 Jahre geballte Weinfreude!\nAm 16
 . August 2025 ab 12 UhrWir feiern ein doppeltes Jubiläum: 40 Jahre Graubu
 rgunder und 40 Jahre Lucas – insgesamt 80 Jahre voller Genuss!\nDie Bick
 ensohler Weinvogtei (Kaiserstuhl)\, die „Erfinder“ des Grauburgunders 
 und Weingut Wasem Doppelstück (Ingelheim/Rheinhessen) sind dabei und prä
 sentieren ihre besten Weine. Für das Kulinarische sorgt der Handkäs' Sho
 p aus Frankfurt.\nStoßen Sie mit uns an und genießen Sie die edlen Tropf
 en\, die in dieser Zeit gewachsen sind. Ein ganz besonderer Anlass\, den S
 ie nicht verpassen sollten!\nKeine Anmeldung erforderlich. Einfach vorbeik
 ommen und genießen!\nZur Verkostungsliste\n\nTime for Wine\n– die Weinr
 eihe zum Genießen\nBei Time for Wine dreht sich alles um Genuss\, Atmosph
 äre und persönliche Begegnungen. Renommierte Weingüter präsentieren ih
 re besten Tropfen – direkt vor Ort und im direkten Austausch mit den Win
 zerinnen und Winzern. Jede Veranstaltung steht unter einem besonderen Mott
 o und bringt neue Aromen\, Regionen oder spannende Themen ins Glas.\nFreue
 n Sie sich auf entspannte Stunden in unserer stilvollen Wine Lounge\, span
 nende Verkostungen und Aktionen rund um den Wein. Ob Frühlingsgefühle im
  Glas\, regionale Highlights oder internationale Genussreisen – Time for
  Wine macht jeden Termin zu einem besonderen Erlebnis.\nEinsteigen. Einsch
 enken. Entspannen.\n&#x1f4cd\; Veranstaltungsort:Vino d’Italia WEINDEPOT
 Eddersheimer Str. 265719 Hofheim-Marxheim
ATTACH;FMTTYPE=image/jpeg:https://vinoditalia.eu/wp-content/uploads/2025/0
 5/0816tfw_insta.jpg
END:VEVENT
END:VCALENDAR