BEGIN:VCALENDAR
VERSION:2.0
PRODID:-//wp-events-plugin.com//7.2.2.1//EN
BEGIN:VEVENT
UID:40@vinoditalia.eu
DTSTART:20240521T150000Z
DTEND:20240521T215900Z
DTSTAMP:20240508T134555Z
URL:https://vinoditalia.eu/termine/hofheimer-waeldchestag/
SUMMARY:Hofheimer Wäldchestag
DESCRIPTION:Hofheimer Wäldchestag 2024 auf dem Tiverton-Platz und dem Plat
 z Am Untertor
ATTACH;FMTTYPE=image/jpeg:https://vinoditalia.eu/wp-content/uploads/2024/0
 5/Plakat-Waeldchestag-2.2.jpg
END:VEVENT
END:VCALENDAR