BEGIN:VCALENDAR
VERSION:2.0
PRODID:-//wp-events-plugin.com//7.2.2.1//EN
BEGIN:VEVENT
UID:41@vinoditalia.eu
DTSTART:20240518T160000Z
DTEND:20240518T200000Z
DTSTAMP:20240508T134934Z
URL:https://vinoditalia.eu/termine/hofheimer-tanzbar/
SUMMARY:Hofheimer Tanzbar
DESCRIPTION:Nachdem großen Erfolg letztes Jahr\, wird es auch in diesem Ja
 hr einmal im Monat ein Open Air Tanzen auf dem Kellereiplatz in Hofheim ge
 ben.Natürlich versorgen wir euch wieder mit collen Drinks an unserer Aper
 itivo-Bar!Wir freuen uns auf euch\nLet`s Dance!
ATTACH;FMTTYPE=image/jpeg:https://vinoditalia.eu/wp-content/uploads/2024/0
 5/tanzbar2024.jpg
END:VEVENT
END:VCALENDAR