BEGIN:VCALENDAR
VERSION:2.0
PRODID:-//wp-events-plugin.com//7.2.2.1//EN
BEGIN:VEVENT
UID:55@vinoditalia.eu
DTSTART:20241020T100000Z
DTEND:20241020T200000Z
DTSTAMP:20241017T174547Z
URL:https://vinoditalia.eu/termine/gallusmarkt24sonntag/
SUMMARY:Hofheimer Gallusmarkt 2024 - Rheinhessen trifft auf Bella Italia
DESCRIPTION:Besuchen Sie uns vom 18. bis 22. Oktober 2024 im neuen Genussdo
 rf auf dem Ludwig-Meidner-Platz. Genießen Sie Rheinhessische Weine\, ital
 ienische Weinklassiker und unsere ersten Glühweine der Saison. Freuen Sie
  sich außerdem auf tägliche Live-Musik und kulinarische Highlights!\n\nW
 eitere Informationen rund um den Gallusmarkt finden Sie hier\n\nVerkaufsof
 fener Sonntag – Shopping und Genuss\nAm verkaufsoffenen Sonntag öffnen 
 die Hofheimer Geschäfte von 13 bis 18 Uhr ihre Türen. Besonders das Team
  von Anna's Tee &amp\; Geschenke freut sich auf Ihren Besuch.\n\nLive-Musi
 k am Sonntag:\n18:00 – 22:00 Uhr Stan Glogow´s Dixie Dogs
ATTACH;FMTTYPE=image/jpeg:https://vinoditalia.eu/wp-content/uploads/2024/1
 0/A3-Plakat-A3-Gallusmarkt-final-scaled.jpg
END:VEVENT
END:VCALENDAR