BEGIN:VCALENDAR
VERSION:2.0
PRODID:-//wp-events-plugin.com//7.2.2.1//EN
BEGIN:VEVENT
UID:58@vinoditalia.eu
DTSTART:20241130T100000Z
DTEND:20241130T200000Z
DTSTAMP:20241127T203527Z
URL:https://vinoditalia.eu/termine/finewinefair/
SUMMARY:Marxheimer WEINnachtsmesse: Fine Wine Fair
DESCRIPTION:Erleben Sie die vorweihnachtliche Stimmung bei unserer Marxheim
 er WEINnachtsmesse: Fine Wine Fair! Ab 12.00 Uhr laden wir Sie ein zu:\n\n
 Weinverkostung: Mit dabei sind renommierte Weingüter wie das Weingut Oliv
 er Zeter (Neustadt/Pfalz)\, Weingut Wasem Doppelstück (Ingelheim/Rheinhes
 sen) und die Bickensohler Weinvogtei (Kaiserstuhl). Außerdem freuen wir u
 ns auf unsere Gastweingüter Luff und Schick (Jugenheim/Rheinhessen).\n\nG
 eschenkideen &amp\; Aktionsrabatte: Lassen Sie sich inspirieren von exklus
 iven Angeboten\, den neuesten weihnachtlichen Dekotrends und feinen Tees v
 on Anna’s Tee &amp\; Geschenke.\n\nGlühweinlounge: Genießen Sie winter
 lichen Glühwein in entspannter Atmosphäre auf unserem Hof.\n\nDer Eintri
 tt ist frei. Kommen Sie vorbei und lassen Sie sich inspirieren – wir fre
 uen uns auf Sie!\n\nZur Verkostungsliste\n\n
ATTACH;FMTTYPE=image/jpeg:https://vinoditalia.eu/wp-content/uploads/2024/1
 1/weinanchtsmesse2024_insta.jpg
END:VEVENT
END:VCALENDAR