BEGIN:VCALENDAR
VERSION:2.0
PRODID:-//wp-events-plugin.com//7.2.2.1//EN
BEGIN:VEVENT
UID:62@vinoditalia.eu
DTSTART:20241215T120000Z
DTEND:20241215T180000Z
DTSTAMP:20241203T194512Z
URL:https://vinoditalia.eu/termine/25-marxheimer-weihnachtsmarkt/
SUMMARY:25. Marxheimer Weihnachtsmarkt
DESCRIPTION:Die Adventszeit erreicht ihren Höhepunkt\, und der Marxheimer 
 Weihnachtsmarkt ist der perfekte Ort\, um sich auf Weihnachten einzustimme
 n. Am Sonntag\, den 15. Dezember 2024\, öffnet der Markt von 14:00 bis 20
 :00 Uhr seine Pforten und lädt Groß und Klein ein\, die festliche Atmosp
 häre zu genießen.\n\nUnser Standort:\nWir freuen uns\, Sie in der Schuls
 traße\, zwischen der Marxheimer Grundschule und dem Pfarrer-Klarmann-Plat
 z\, an unserem Stand willkommen zu heißen.\n\nUnsere Spezialitäten:\nFre
 uen Sie sich auf eine köstliche Auswahl an wärmenden Getränken:\n\n 	&#
 x1f377\; Glühwein Rosé vom Weingut Wasem Doppelstück – eine fruchtige
  und elegante Glühweinvariante\n 	&#x1f34f\; Hofheimer Wintertraum – he
 ißer Apfelsaft vom Birkenhof\, verfeinert mit Glühweingewürz von ANNAs 
 Tee &amp\; Geschenke\n 	&#x1f942\; Heißen Eierlikör im Waffelbecher – 
 eine süße und cremige Spezialität\n 	&#x1f347\; Weinkarte – mit ausge
 wählten Weinen für alle Genießer\n\nWarum der Marxheimer Weihnachtsmark
 t?\nMit seiner charmanten Atmosphäre\, stimmungsvoller Musik und liebevol
 l dekorierten Ständen ist der Marxheimer Weihnachtsmarkt ein Highlight in
  der Adventszeit. Hier treffen sich Freunde\, Familien und Nachbarn\, um g
 emeinsam die Vorfreude auf Weihnachten zu feiern.\n\n&#x1f4c5\; Termin: So
 nntag\, 15. Dezember 2024\n&#x1f552\; Öffnungszeiten: 14:00 – 20:00 Uhr
 \n&#x1f4cd\; Ort: Schulstraße\, Marxheim\n\nKommen Sie vorbei und genieß
 en Sie mit uns einen unvergesslichen 3. Advent. Wir freuen uns auf
ATTACH;FMTTYPE=image/jpeg:https://vinoditalia.eu/wp-content/uploads/2024/1
 2/IMG_7201.jpg
END:VEVENT
END:VCALENDAR